BEGIN:VCALENDAR
VERSION:2.0
PRODID:-//WP EVENT Manager Ical//NONSGML Events//EN
CALSCALE:GREGORIAN
BEGIN:VTIMEZONE
TZID:Asia/Kolkata
BEGIN:STANDARD
DTSTART:19700101T000000
TZOFFSETFROM:+0530
TZOFFSETTO:+0530
END:STANDARD
END:VTIMEZONE
BEGIN:VEVENT
UID:69ea2cb7e5c66@www.overheretoronto.com
DTSTAMP:20260423T142911Z
DTSTART;TZID=Asia/Kolkata:20250624T180000
DTEND;TZID=Asia/Kolkata:20250624T210000
LOCATION:11 Polson Street Toronto, ON M5A 1A4
SUMMARY:Danceable
DESCRIPTION:Join Variety – the Children’s Charity (Ontario) and Substance Cares Inc. for DanceAble — a free, all-inclusive dance party designed for people of all abilities. Set against the stunning backdrop of Toronto’s waterfront at Cabana Pool Bar, this event creates a safe, welcoming space for everyone to move, dance, and celebrate together.Whether you love to dance or just want to enjoy the energy of an inclusive community gathering, DanceAble is the perfect way to spend a summer evening. The event is specially curated to support varying ability levels and to ensure that everyone feels comfortable, included, and empowered to have fun.Date: June 24Time: 6:00 PM – 9:00 PMLocation: Cabana Pool Bar, Toronto WaterfrontAdmission: Free and open to all abilitiesAdvertisement
END:VEVENT
END:VCALENDAR