BEGIN:VCALENDAR
VERSION:2.0
PRODID:-//WP EVENT Manager Ical//NONSGML Events//EN
CALSCALE:GREGORIAN
BEGIN:VTIMEZONE
TZID:Asia/Kolkata
BEGIN:STANDARD
DTSTART:19700101T000000
TZOFFSETFROM:+0530
TZOFFSETTO:+0530
END:STANDARD
END:VTIMEZONE
BEGIN:VEVENT
UID:69ea534b970ce@www.overheretoronto.com
DTSTAMP:20260423T171347Z
DTSTART;TZID=Asia/Kolkata:20250701T100000
DTEND;TZID=Asia/Kolkata:20250701T220000
LOCATION:Stan Wadlow Park, East York, Toronto
SUMMARY:East York Canada Day Festival
DESCRIPTION:Celebrate Canada Day at the East York Canada Festival with a full day of family-friendly activities, live music, food vendors, a parade, and a fireworks show to close the evening. Join the East York community for a vibrant celebration of Canadian pride.Advertisement
END:VEVENT
END:VCALENDAR