BEGIN:VCALENDAR
VERSION:2.0
PRODID:-//WP EVENT Manager Ical//NONSGML Events//EN
CALSCALE:GREGORIAN
BEGIN:VTIMEZONE
TZID:Asia/Kolkata
BEGIN:STANDARD
DTSTART:19700101T000000
TZOFFSETFROM:+0530
TZOFFSETTO:+0530
END:STANDARD
END:VTIMEZONE
BEGIN:VEVENT
UID:69ea2ae9a30f0@www.overheretoronto.com
DTSTAMP:20260423T142129Z
DTSTART;TZID=Asia/Kolkata:20250627T180000
DTEND;TZID=Asia/Kolkata:20250627T220000
LOCATION:The Bentway
SUMMARY:Finlandia Vodka Pop Up
DESCRIPTION:Join a free-entry roller skate party with music, Finlandia cocktails, and freebies like fanny packs, visors, hand fans, and slap bracelets while supplies last. Skate rentals and drinks are available for purchase on-site.Advertisement
END:VEVENT
END:VCALENDAR