BEGIN:VCALENDAR
VERSION:2.0
PRODID:-//WP EVENT Manager Ical//NONSGML Events//EN
CALSCALE:GREGORIAN
BEGIN:VTIMEZONE
TZID:Asia/Kolkata
BEGIN:STANDARD
DTSTART:19700101T000000
TZOFFSETFROM:+0530
TZOFFSETTO:+0530
END:STANDARD
END:VTIMEZONE
BEGIN:VEVENT
UID:69ea2f666f5d6@www.overheretoronto.com
DTSTAMP:20260423T144038Z
DTSTART;TZID=Asia/Kolkata:20250627T060000
DTEND;TZID=Asia/Kolkata:20250627T210000
LOCATION:4th floor of CIBC SQUARE (81 Bay St)
SUMMARY:Latin Fridays
DESCRIPTION:Enjoy free salsa and bachata classes, dancefloor socials, and live DJ sets at Latin Fridays. This event also features food and drink specials from top vendors, bringing together a vibrant community to dance and connect in downtown Toronto.Advertisement
END:VEVENT
END:VCALENDAR