BEGIN:VCALENDAR
VERSION:2.0
PRODID:-//WP EVENT Manager Ical//NONSGML Events//EN
CALSCALE:GREGORIAN
BEGIN:VTIMEZONE
TZID:Asia/Kolkata
BEGIN:STANDARD
DTSTART:19700101T000000
TZOFFSETFROM:+0530
TZOFFSETTO:+0530
END:STANDARD
END:VTIMEZONE
BEGIN:VEVENT
UID:69e9eec6788da@www.overheretoronto.com
DTSTAMP:20260423T100454Z
DTSTART;TZID=Asia/Kolkata:20250719T120000
DTEND;TZID=Asia/Kolkata:20250719T140000
LOCATION:46 Rosemount Ave, York, ON M9N 3B3
SUMMARY:Live Music with Michel Neray at The Rosemount Cafe
DESCRIPTION:Enjoy a laid-back afternoon filled with live music in the heart of Weston Village.On Saturday, July 19, local musician Michel Neray will bring his soulful sound to The Rosemount Cafe for a two-hour set from 12 PM to 2 PM. Weather permitting, the performance will take place on the welcoming patio, offering a perfect backdrop to unwind and take in the music.Guests are welcome to enjoy the cafe’s selection of drinks, light meals, and freshly baked treats while they listen.Admission is free, and everyone is invited to stop by and experience the warm community vibe of this neighbourhood favourite.Advertisement
END:VEVENT
END:VCALENDAR