BEGIN:VCALENDAR
VERSION:2.0
PRODID:-//WP EVENT Manager Ical//NONSGML Events//EN
CALSCALE:GREGORIAN
BEGIN:VTIMEZONE
TZID:Asia/Kolkata
BEGIN:STANDARD
DTSTART:19700101T000000
TZOFFSETFROM:+0530
TZOFFSETTO:+0530
END:STANDARD
END:VTIMEZONE
BEGIN:VEVENT
UID:69ea14e08404a@www.overheretoronto.com
DTSTAMP:20260423T124728Z
DTSTART;TZID=Asia/Kolkata:20250624T183000
DTEND;TZID=Asia/Kolkata:20250624T220000
LOCATION:Buddies in Bad Times Theatre, 12 Alexander Street, Toronto, ON
SUMMARY:Pride Prom 2025
DESCRIPTION:Join us for Pride Prom 2025: Gothic Pink Pony Club, celebrating 25 years of Supporting Our Youth (SOY), a program of Sherbourne Health. Happening on Tuesday, June 24 from 6:30 to 10 p.m. at Buddies in Bad Times Theatre (12 Alexander Street, Toronto), this free, wheelchair-accessible event is open to 2SLGBTQ+ youth aged 21 and under. Step into a dreamy, multi-room prom night where dark glamour meets pink fantasy. Expect an enchanted dance floor, live performances by 2SLGBTQ+ youth, a photobooth, free snacks and pop in a chill lounge, fun games led by the Pride Youth Advisory Committee, and prizes for standout style. Whether you&#8217;re channeling Goth Glamour, bold queer expression, or both—come dressed to celebrate yourself. It’s a night to shine (or shimmer in shadow), connect with community, and close out the school year with pride.Advertisement
END:VEVENT
END:VCALENDAR