BEGIN:VCALENDAR
VERSION:2.0
PRODID:-//WP EVENT Manager Ical//NONSGML Events//EN
CALSCALE:GREGORIAN
BEGIN:VTIMEZONE
TZID:Asia/Kolkata
BEGIN:STANDARD
DTSTART:19700101T000000
TZOFFSETFROM:+0530
TZOFFSETTO:+0530
END:STANDARD
END:VTIMEZONE
BEGIN:VEVENT
UID:69ea5371908b6@www.overheretoronto.com
DTSTAMP:20260423T171425Z
DTSTART;TZID=Asia/Kolkata:20250820T160000
DTEND;TZID=Asia/Kolkata:20250820T180000
LOCATION:150 N Queen St Unit D1, Etobicoke, ON M9C 1A8
SUMMARY:Toronto Soccer Star Jonathan Osorio Takes Over Nando’s Grill to Support Children in Colombia
DESCRIPTION:Canadian professional soccer player Jonathan Osorio is trading in his cleats for an apron for one night only at Nando’s Etobicoke. Fans can watch Osorio take over the grill, enjoy flame-grilled PERi-PERi chicken, win exciting prizes, and get autographs, all in support of the Canadian Colombian Children’s Organization (CCCO). All proceeds will help fund education, nutrition, and community initiatives in Colombia.Advertisement
END:VEVENT
END:VCALENDAR