BEGIN:VCALENDAR
VERSION:2.0
PRODID:-//WP EVENT Manager Ical//NONSGML Events//EN
CALSCALE:GREGORIAN
BEGIN:VTIMEZONE
TZID:Asia/Kolkata
BEGIN:STANDARD
DTSTART:19700101T000000
TZOFFSETFROM:+0530
TZOFFSETTO:+0530
END:STANDARD
END:VTIMEZONE
BEGIN:VEVENT
UID:69ea54cd8f1a2@www.overheretoronto.com
DTSTAMP:20260423T172013Z
DTSTART;TZID=Asia/Kolkata:20250823T100000
DTEND;TZID=Asia/Kolkata:20250823T150000
LOCATION:Old City Hall - 60 Queen Street West
SUMMARY:Toronto Treasures
DESCRIPTION:Toronto residents asked to bring their unique treasures down to Old City Hall for a one-of-a-kind event. Do you think you have a piece of Toronto’s history laying around somewhere in your home? Now’s your chance to share its story with your fellow Torontonians and a museum expert, while learning how to preserve it for generations to come. Advertisement
END:VEVENT
END:VCALENDAR